BEGIN:VCALENDAR
VERSION:2.0
PRODID:-//jEvents 2.0 for Joomla//EN
CALSCALE:GREGORIAN
METHOD:PUBLISH
BEGIN:VEVENT
UID:CSVConvert4d3720e0670d0be255c8698852b90b3b
CATEGORIES:Vencimientos
CREATED:20230323T174751
SUMMARY:Vencimiento SIFERE - Convenio Multilateral - 07/2019 (CUIT 3 a 5)
DESCRIPTION:
DTSTAMP:20260421T132432
DTSTART;TZID=America/Argentina/Buenos_Aires;VALUE=DATE:20190816
DTEND;TZID=America/Argentina/Buenos_Aires;VALUE=DATE:20190817
SEQUENCE:0
TRANSP:OPAQUE
END:VEVENT
END:VCALENDAR