BEGIN:VCALENDAR
VERSION:2.0
PRODID:-//jEvents 2.0 for Joomla//EN
CALSCALE:GREGORIAN
METHOD:PUBLISH
BEGIN:VEVENT
UID:CSVConvert4af00c2f01d351ba40959eb320c9e53d
CATEGORIES:Vencimientos
CREATED:20230323T174751
SUMMARY:Vencimiento SIRCREB (Pago DDJJ - 2da. decena Febrero)
DESCRIPTION:
DTSTAMP:20260421T203718
DTSTART;TZID=America/Argentina/Buenos_Aires;VALUE=DATE:20180227
DTEND;TZID=America/Argentina/Buenos_Aires;VALUE=DATE:20180228
SEQUENCE:0
TRANSP:OPAQUE
END:VEVENT
END:VCALENDAR