BEGIN:VCALENDAR
VERSION:2.0
PRODID:-//jEvents 2.0 for Joomla//EN
CALSCALE:GREGORIAN
METHOD:PUBLISH
BEGIN:VEVENT
UID:CSVConvert46eb08eeb5a7758b1672083ab2e3bf7c
CATEGORIES:Vencimientos
CREATED:20230323T174751
SUMMARY:Vencimiento SIRCREB (Pago DDJJ - 2da. decena Marzo)
DESCRIPTION:
DTSTAMP:20260421T203336
DTSTART;TZID=America/Argentina/Buenos_Aires;VALUE=DATE:20180327
DTEND;TZID=America/Argentina/Buenos_Aires;VALUE=DATE:20180328
SEQUENCE:0
TRANSP:OPAQUE
END:VEVENT
END:VCALENDAR