BEGIN:VCALENDAR
VERSION:2.0
PRODID:-//jEvents 2.0 for Joomla//EN
CALSCALE:GREGORIAN
METHOD:PUBLISH
BEGIN:VEVENT
UID:CSVConvert44f68d195ba4f61f7acfb42605fbc152
CATEGORIES:Vencimientos
CREATED:20230323T174750
SUMMARY:Vencimiento SIFERE - Convenio Multilateral - 11/2019 (CUIT 8 y 9)
DESCRIPTION:
DTSTAMP:20260421T132725
DTSTART;TZID=America/Argentina/Buenos_Aires;VALUE=DATE:20191219
DTEND;TZID=America/Argentina/Buenos_Aires;VALUE=DATE:20191220
SEQUENCE:0
TRANSP:OPAQUE
END:VEVENT
END:VCALENDAR