BEGIN:VCALENDAR
VERSION:2.0
PRODID:-//jEvents 2.0 for Joomla//EN
CALSCALE:GREGORIAN
METHOD:PUBLISH
BEGIN:VEVENT
UID:CSVConvert443b828e7e0f89e3939ac7b5588a5fb3
CATEGORIES:Vencimientos
CREATED:20230323T174750
SUMMARY:Vencimiento SIRCREB (Pago DDJJ - 2da. decena Abril)
DESCRIPTION:
DTSTAMP:20260421T202833
DTSTART;TZID=America/Argentina/Buenos_Aires;VALUE=DATE:20180427
DTEND;TZID=America/Argentina/Buenos_Aires;VALUE=DATE:20180428
SEQUENCE:0
TRANSP:OPAQUE
END:VEVENT
END:VCALENDAR