BEGIN:VCALENDAR
VERSION:2.0
PRODID:-//jEvents 2.0 for Joomla//EN
CALSCALE:GREGORIAN
METHOD:PUBLISH
BEGIN:VEVENT
UID:CSVConvert442204fe0dada99d672c7c492e453d2f
CATEGORIES:Vencimientos
CREATED:20230323T174750
SUMMARY:Vencimiento SIRCAR - 2da Quincena y Mensual - 04/2018 (CUIT 5 a 9)
DESCRIPTION:
DTSTAMP:20260421T203119
DTSTART;TZID=America/Argentina/Buenos_Aires;VALUE=DATE:20180510
DTEND;TZID=America/Argentina/Buenos_Aires;VALUE=DATE:20180511
SEQUENCE:0
TRANSP:OPAQUE
END:VEVENT
END:VCALENDAR