BEGIN:VCALENDAR
VERSION:2.0
PRODID:-//jEvents 2.0 for Joomla//EN
CALSCALE:GREGORIAN
METHOD:PUBLISH
BEGIN:VEVENT
UID:CSVConvert440f78adba2cc0f9b22d14f039134398
CATEGORIES:Vencimientos
CREATED:20230323T174750
SUMMARY:Vencimiento SIRCAR - 1ra Quincena - 11/2019 (CUIT 5 a 9)
DESCRIPTION:
DTSTAMP:20260421T152921
DTSTART;TZID=America/Argentina/Buenos_Aires;VALUE=DATE:20191125
DTEND;TZID=America/Argentina/Buenos_Aires;VALUE=DATE:20191126
SEQUENCE:0
TRANSP:OPAQUE
END:VEVENT
END:VCALENDAR