BEGIN:VCALENDAR
VERSION:2.0
PRODID:-//jEvents 2.0 for Joomla//EN
CALSCALE:GREGORIAN
METHOD:PUBLISH
BEGIN:VEVENT
UID:CSVConvert439c8876ed419cf201f50f42d5b70675
CATEGORIES:Vencimientos
CREATED:20230323T174750
SUMMARY:Vencimiento SIRCAR - 1ra Quincena - 06/2018 (CUIT 5 a 9)
DESCRIPTION:
DTSTAMP:20260421T203109
DTSTART;TZID=America/Argentina/Buenos_Aires;VALUE=DATE:20180625
DTEND;TZID=America/Argentina/Buenos_Aires;VALUE=DATE:20180626
SEQUENCE:0
TRANSP:OPAQUE
END:VEVENT
END:VCALENDAR