BEGIN:VCALENDAR
VERSION:2.0
PRODID:-//jEvents 2.0 for Joomla//EN
CALSCALE:GREGORIAN
METHOD:PUBLISH
BEGIN:VEVENT
UID:CSVConvert4360dbc742ed58940a28efe2d3adb7b2
CATEGORIES:Vencimientos
CREATED:20230323T174750
SUMMARY:Vencimiento SIFERE - Convenio Multilateral - 01/2018(CUIT 6 A 7)
DESCRIPTION:
DTSTAMP:20260421T202800
DTSTART;TZID=America/Argentina/Buenos_Aires;VALUE=DATE:20180219
DTEND;TZID=America/Argentina/Buenos_Aires;VALUE=DATE:20180220
SEQUENCE:0
TRANSP:OPAQUE
END:VEVENT
END:VCALENDAR