BEGIN:VCALENDAR
VERSION:2.0
PRODID:-//jEvents 2.0 for Joomla//EN
CALSCALE:GREGORIAN
METHOD:PUBLISH
BEGIN:VEVENT
UID:CSVConvert42b63b061d1a0f8bcf7c0f641dfbd567
CATEGORIES:Vencimientos
CREATED:20230323T174750
SUMMARY:Vencimiento SIFERE - Convenio Multilateral - 12/2018(CUIT 8 A 9)
DESCRIPTION:
DTSTAMP:20260421T103157
DTSTART;TZID=America/Argentina/Buenos_Aires;VALUE=DATE:20190118
DTEND;TZID=America/Argentina/Buenos_Aires;VALUE=DATE:20190119
SEQUENCE:0
TRANSP:OPAQUE
END:VEVENT
END:VCALENDAR