BEGIN:VCALENDAR
VERSION:2.0
PRODID:-//jEvents 2.0 for Joomla//EN
CALSCALE:GREGORIAN
METHOD:PUBLISH
BEGIN:VEVENT
UID:CSVConvert424ca7a279f059d1072be444bdb3eb6e
CATEGORIES:Vencimientos
CREATED:20230323T174750
SUMMARY:Vencimiento SIRCREB (Pago DDJJ - 3ra. decena Noviembre)
DESCRIPTION:
DTSTAMP:20260421T225956
DTSTART;TZID=America/Argentina/Buenos_Aires;VALUE=DATE:20181207
DTEND;TZID=America/Argentina/Buenos_Aires;VALUE=DATE:20181208
SEQUENCE:0
TRANSP:OPAQUE
END:VEVENT
END:VCALENDAR