BEGIN:VCALENDAR
VERSION:2.0
PRODID:-//jEvents 2.0 for Joomla//EN
CALSCALE:GREGORIAN
METHOD:PUBLISH
BEGIN:VEVENT
UID:CSVConvert41ca31a0c24e5016a718e908a8e18dd6
CATEGORIES:Vencimientos
CREATED:20230323T174750
SUMMARY:Vencimiento SIRCREB (Presentacion DDJJ -1ra. decena Octubre)
DESCRIPTION:
DTSTAMP:20260421T221629
DTSTART;TZID=America/Argentina/Buenos_Aires;VALUE=DATE:20181017
DTEND;TZID=America/Argentina/Buenos_Aires;VALUE=DATE:20181018
SEQUENCE:0
TRANSP:OPAQUE
END:VEVENT
END:VCALENDAR