BEGIN:VCALENDAR
VERSION:2.0
PRODID:-//jEvents 2.0 for Joomla//EN
CALSCALE:GREGORIAN
METHOD:PUBLISH
BEGIN:VEVENT
UID:CSVConvert41358339b8da967c177ad8773d6627d2
CATEGORIES:Vencimientos
CREATED:20230323T174750
SUMMARY:Vencimiento SIRCREB (Pago DDJJ - 1ra. decena Agosto)
DESCRIPTION:
DTSTAMP:20260421T132320
DTSTART;TZID=America/Argentina/Buenos_Aires;VALUE=DATE:20190816
DTEND;TZID=America/Argentina/Buenos_Aires;VALUE=DATE:20190817
SEQUENCE:0
TRANSP:OPAQUE
END:VEVENT
END:VCALENDAR