BEGIN:VCALENDAR
VERSION:2.0
PRODID:-//jEvents 2.0 for Joomla//EN
CALSCALE:GREGORIAN
METHOD:PUBLISH
BEGIN:VEVENT
UID:CSVConvert07752c1cf9ee91ae2d8272d10df9a1a7
CATEGORIES:Vencimientos
CREATED:20230323T174736
SUMMARY:Vencimiento SIRCREB (Pago DDJJ - 3ra. decena Diciembre)
DESCRIPTION:
DTSTAMP:20260421T114021
DTSTART;TZID=America/Argentina/Buenos_Aires;VALUE=DATE:20190108
DTEND;TZID=America/Argentina/Buenos_Aires;VALUE=DATE:20190109
SEQUENCE:0
TRANSP:OPAQUE
END:VEVENT
END:VCALENDAR