BEGIN:VCALENDAR
VERSION:2.0
PRODID:-//jEvents 2.0 for Joomla//EN
CALSCALE:GREGORIAN
METHOD:PUBLISH
BEGIN:VEVENT
UID:CSVConvert406d466b0d1e03d4935598f1553992a4
CATEGORIES:Vencimientos
CREATED:20230323T174750
SUMMARY:Vencimiento SIRCREB (Pago DDJJ - 3ra. decena Diciembre)
DESCRIPTION:
DTSTAMP:20260421T185357
DTSTART;TZID=America/Argentina/Buenos_Aires;VALUE=DATE:20180108
DTEND;TZID=America/Argentina/Buenos_Aires;VALUE=DATE:20180109
SEQUENCE:0
TRANSP:OPAQUE
END:VEVENT
END:VCALENDAR