BEGIN:VCALENDAR
VERSION:2.0
PRODID:-//jEvents 2.0 for Joomla//EN
CALSCALE:GREGORIAN
METHOD:PUBLISH
BEGIN:VEVENT
UID:CSVConvert3fe63b5a028436bacf9be9ed12211d70
CATEGORIES:Vencimientos
CREATED:20230323T174750
SUMMARY:Vencimiento SIFERE - Convenio Multilateral - 01/2018(CUIT 3 A 5)
DESCRIPTION:
DTSTAMP:20260421T204120
DTSTART;TZID=America/Argentina/Buenos_Aires;VALUE=DATE:20180216
DTEND;TZID=America/Argentina/Buenos_Aires;VALUE=DATE:20180217
SEQUENCE:0
TRANSP:OPAQUE
END:VEVENT
END:VCALENDAR