BEGIN:VCALENDAR
VERSION:2.0
PRODID:-//jEvents 2.0 for Joomla//EN
CALSCALE:GREGORIAN
METHOD:PUBLISH
BEGIN:VEVENT
UID:CSVConvert0738512bf3fc545095e26cf393eccc05
CATEGORIES:Vencimientos
CREATED:20230323T174736
SUMMARY:Vencimiento SIFERE - Convenio Multilateral - 08/2019 (CUIT 3 a 5)
DESCRIPTION:
DTSTAMP:20260421T132725
DTSTART;TZID=America/Argentina/Buenos_Aires;VALUE=DATE:20190917
DTEND;TZID=America/Argentina/Buenos_Aires;VALUE=DATE:20190918
SEQUENCE:0
TRANSP:OPAQUE
END:VEVENT
END:VCALENDAR