BEGIN:VCALENDAR
VERSION:2.0
PRODID:-//jEvents 2.0 for Joomla//EN
CALSCALE:GREGORIAN
METHOD:PUBLISH
BEGIN:VEVENT
UID:CSVConvert3f6adfd85c0a2583ed28b4a81ec701d5
CATEGORIES:Vencimientos
CREATED:20230323T174749
SUMMARY:Vencimiento SIRCREB (Pago DDJJ - 2da. decena Abril)
DESCRIPTION:
DTSTAMP:20260421T121213
DTSTART;TZID=America/Argentina/Buenos_Aires;VALUE=DATE:20190426
DTEND;TZID=America/Argentina/Buenos_Aires;VALUE=DATE:20190427
SEQUENCE:1
TRANSP:OPAQUE
END:VEVENT
END:VCALENDAR