BEGIN:VCALENDAR
VERSION:2.0
PRODID:-//jEvents 2.0 for Joomla//EN
CALSCALE:GREGORIAN
METHOD:PUBLISH
BEGIN:VEVENT
UID:CSVConvert3de50642be75536e1058f271f7936fc1
CATEGORIES:Vencimientos
CREATED:20230323T174749
SUMMARY:Vencimiento SIFERE - Convenio Multilateral - 08/2019 (CUIT 6 y 7)
DESCRIPTION:
DTSTAMP:20260421T152541
DTSTART;TZID=America/Argentina/Buenos_Aires;VALUE=DATE:20190918
DTEND;TZID=America/Argentina/Buenos_Aires;VALUE=DATE:20190919
SEQUENCE:0
TRANSP:OPAQUE
END:VEVENT
END:VCALENDAR