BEGIN:VCALENDAR
VERSION:2.0
PRODID:-//jEvents 2.0 for Joomla//EN
CALSCALE:GREGORIAN
METHOD:PUBLISH
BEGIN:VEVENT
UID:CSVConvert39d92933082c85dea9c5341523a05071
CATEGORIES:Vencimientos
CREATED:20230323T174749
SUMMARY:Vencimiento SIRCAR - 2da Quincena y Mensual - 12/2017 (CUIT 0 a 4)
DESCRIPTION:
DTSTAMP:20260421T203107
DTSTART;TZID=America/Argentina/Buenos_Aires;VALUE=DATE:20180109
DTEND;TZID=America/Argentina/Buenos_Aires;VALUE=DATE:20180110
SEQUENCE:0
TRANSP:OPAQUE
END:VEVENT
END:VCALENDAR