BEGIN:VCALENDAR
VERSION:2.0
PRODID:-//jEvents 2.0 for Joomla//EN
CALSCALE:GREGORIAN
METHOD:PUBLISH
BEGIN:VEVENT
UID:CSVConvert383587eb8160949f3988c98ee7509ab2
CATEGORIES:Vencimientos
CREATED:20230323T174748
SUMMARY:Vencimiento SIFERE - Convenio Multilateral - 11/2018(CUIT 0 A 2)
DESCRIPTION:
DTSTAMP:20260421T205933
DTSTART;TZID=America/Argentina/Buenos_Aires;VALUE=DATE:20181217
DTEND;TZID=America/Argentina/Buenos_Aires;VALUE=DATE:20181218
SEQUENCE:0
TRANSP:OPAQUE
END:VEVENT
END:VCALENDAR