BEGIN:VCALENDAR
VERSION:2.0
PRODID:-//jEvents 2.0 for Joomla//EN
CALSCALE:GREGORIAN
METHOD:PUBLISH
BEGIN:VEVENT
UID:CSVConvert368a1444aff2d436a2a341427750d8c4
CATEGORIES:Vencimientos
CREATED:20230323T174748
SUMMARY:Vencimiento SIRCAR - 1ra Quincena - 03/2019 (CUIT 0 a 4)
DESCRIPTION:
DTSTAMP:20260421T132440
DTSTART;TZID=America/Argentina/Buenos_Aires;VALUE=DATE:20190322
DTEND;TZID=America/Argentina/Buenos_Aires;VALUE=DATE:20190323
SEQUENCE:0
TRANSP:OPAQUE
END:VEVENT
END:VCALENDAR