BEGIN:VCALENDAR
VERSION:2.0
PRODID:-//jEvents 2.0 for Joomla//EN
CALSCALE:GREGORIAN
METHOD:PUBLISH
BEGIN:VEVENT
UID:CSVConvert354c8534b72ef5cc75a6fa3a3d8fb025
CATEGORIES:Vencimientos
CREATED:20230323T174748
SUMMARY:Vencimiento SIRCAR - 2da Quincena y Mensual - 06/2018 (CUIT 5 a 9)
DESCRIPTION:
DTSTAMP:20260421T202822
DTSTART;TZID=America/Argentina/Buenos_Aires;VALUE=DATE:20180711
DTEND;TZID=America/Argentina/Buenos_Aires;VALUE=DATE:20180712
SEQUENCE:0
TRANSP:OPAQUE
END:VEVENT
END:VCALENDAR