BEGIN:VCALENDAR
VERSION:2.0
PRODID:-//jEvents 2.0 for Joomla//EN
CALSCALE:GREGORIAN
METHOD:PUBLISH
BEGIN:VEVENT
UID:CSVConvert34cc287cced0bc796f75a5ce10dfd388
CATEGORIES:Vencimientos
CREATED:20230323T174748
SUMMARY:Vencimiento SIRCAR - 2da Quincena y Mensual - 11/2019 (CUIT 0 a 4)
DESCRIPTION:
DTSTAMP:20260421T152846
DTSTART;TZID=America/Argentina/Buenos_Aires;VALUE=DATE:20191209
DTEND;TZID=America/Argentina/Buenos_Aires;VALUE=DATE:20191210
SEQUENCE:0
TRANSP:OPAQUE
END:VEVENT
END:VCALENDAR