BEGIN:VCALENDAR
VERSION:2.0
PRODID:-//jEvents 2.0 for Joomla//EN
CALSCALE:GREGORIAN
METHOD:PUBLISH
BEGIN:VEVENT
UID:CSVConvert34b3f505adc77afb40225cc7db49d18b
CATEGORIES:Vencimientos
CREATED:20230323T174748
SUMMARY:Vencimiento SIRCREB (Pago DDJJ - 2da. decena Noviembre)
DESCRIPTION:
DTSTAMP:20260421T155129
DTSTART;TZID=America/Argentina/Buenos_Aires;VALUE=DATE:20191127
DTEND;TZID=America/Argentina/Buenos_Aires;VALUE=DATE:20191128
SEQUENCE:0
TRANSP:OPAQUE
END:VEVENT
END:VCALENDAR