BEGIN:VCALENDAR
VERSION:2.0
PRODID:-//jEvents 2.0 for Joomla//EN
CALSCALE:GREGORIAN
METHOD:PUBLISH
BEGIN:VEVENT
UID:CSVConvert32c679d80fe5c053080514baedaa5d2e
CATEGORIES:Vencimientos
CREATED:20230323T174748
SUMMARY:Vencimiento SIFERE - Convenio Multilateral - 01/2018(CUIT 0 A 2)
DESCRIPTION:
DTSTAMP:20260421T205236
DTSTART;TZID=America/Argentina/Buenos_Aires;VALUE=DATE:20180215
DTEND;TZID=America/Argentina/Buenos_Aires;VALUE=DATE:20180216
SEQUENCE:0
TRANSP:OPAQUE
END:VEVENT
END:VCALENDAR