BEGIN:VCALENDAR
VERSION:2.0
PRODID:-//jEvents 2.0 for Joomla//EN
CALSCALE:GREGORIAN
METHOD:PUBLISH
BEGIN:VEVENT
UID:CSVConvert3244c4093fc9bb8a4fb3c8df62c83e5e
CATEGORIES:Vencimientos
CREATED:20230323T174748
SUMMARY:Vencimiento SIRCREB (Presentacion DDJJ -3ra. decena Enero)
DESCRIPTION:
DTSTAMP:20260421T202834
DTSTART;TZID=America/Argentina/Buenos_Aires;VALUE=DATE:20180206
DTEND;TZID=America/Argentina/Buenos_Aires;VALUE=DATE:20180207
SEQUENCE:0
TRANSP:OPAQUE
END:VEVENT
END:VCALENDAR