BEGIN:VCALENDAR
VERSION:2.0
PRODID:-//jEvents 2.0 for Joomla//EN
CALSCALE:GREGORIAN
METHOD:PUBLISH
BEGIN:VEVENT
UID:CSVConvert3018962be363f2ff1f419bcf0f3d3c79
CATEGORIES:Vencimientos
CREATED:20230323T174748
SUMMARY:Vencimiento SIRCREB (Pago DDJJ - 2da. decena Junio)
DESCRIPTION:
DTSTAMP:20260422T013845
DTSTART;TZID=America/Argentina/Buenos_Aires;VALUE=DATE:20180627
DTEND;TZID=America/Argentina/Buenos_Aires;VALUE=DATE:20180628
SEQUENCE:0
TRANSP:OPAQUE
END:VEVENT
END:VCALENDAR