BEGIN:VCALENDAR
VERSION:2.0
PRODID:-//jEvents 2.0 for Joomla//EN
CALSCALE:GREGORIAN
METHOD:PUBLISH
BEGIN:VEVENT
UID:CSVConvert2e23408402aa22fe7efa1050e2bcc132
CATEGORIES:Vencimientos
CREATED:20230323T174747
SUMMARY:Vencimiento SIFERE - Convenio Multilateral - 04/2018(CUIT 0 A 2)
DESCRIPTION:
DTSTAMP:20260421T203155
DTSTART;TZID=America/Argentina/Buenos_Aires;VALUE=DATE:20180515
DTEND;TZID=America/Argentina/Buenos_Aires;VALUE=DATE:20180516
SEQUENCE:0
TRANSP:OPAQUE
END:VEVENT
END:VCALENDAR