BEGIN:VCALENDAR
VERSION:2.0
PRODID:-//jEvents 2.0 for Joomla//EN
CALSCALE:GREGORIAN
METHOD:PUBLISH
BEGIN:VEVENT
UID:CSVConvert2d73391c8ba88cbb4373adf76852d8be
CATEGORIES:Vencimientos
CREATED:20230323T174747
SUMMARY:Vencimiento SIRCREB (Presentación DDJJ -1ra. decena Octubre)
DESCRIPTION:
DTSTAMP:20260421T105729
DTSTART;TZID=America/Argentina/Buenos_Aires;VALUE=DATE:20191017
DTEND;TZID=America/Argentina/Buenos_Aires;VALUE=DATE:20191018
SEQUENCE:0
TRANSP:OPAQUE
END:VEVENT
END:VCALENDAR