BEGIN:VCALENDAR
VERSION:2.0
PRODID:-//jEvents 2.0 for Joomla//EN
CALSCALE:GREGORIAN
METHOD:PUBLISH
BEGIN:VEVENT
UID:CSVConvert2d2db5b7ce05450aa5025e3630a70ab2
CATEGORIES:Vencimientos
CREATED:20230323T174747
SUMMARY:Vencimiento SIFERE - Convenio Multilateral - 04/2018(CUIT 8 A 9)
DESCRIPTION:
DTSTAMP:20260421T202939
DTSTART;TZID=America/Argentina/Buenos_Aires;VALUE=DATE:20180518
DTEND;TZID=America/Argentina/Buenos_Aires;VALUE=DATE:20180519
SEQUENCE:0
TRANSP:OPAQUE
END:VEVENT
END:VCALENDAR