BEGIN:VCALENDAR
VERSION:2.0
PRODID:-//jEvents 2.0 for Joomla//EN
CALSCALE:GREGORIAN
METHOD:PUBLISH
BEGIN:VEVENT
UID:CSVConvert2c00c4e2f3512caf716472e653c95984
CATEGORIES:Vencimientos
CREATED:20230323T174747
SUMMARY:Vencimiento SIRCAR - 1ra Quincena - 10/2018 (CUIT 5 a 9)
DESCRIPTION:
DTSTAMP:20260422T030631
DTSTART;TZID=America/Argentina/Buenos_Aires;VALUE=DATE:20181023
DTEND;TZID=America/Argentina/Buenos_Aires;VALUE=DATE:20181024
SEQUENCE:0
TRANSP:OPAQUE
END:VEVENT
END:VCALENDAR