BEGIN:VCALENDAR
VERSION:2.0
PRODID:-//jEvents 2.0 for Joomla//EN
CALSCALE:GREGORIAN
METHOD:PUBLISH
BEGIN:VEVENT
UID:CSVConvert2b2637d43042fa03995001898868e41d
CATEGORIES:Vencimientos
CREATED:20230323T174745
SUMMARY:Vencimiento SIRCAR - 2da Quincena y Mensual - 03/2018 (CUIT 5 a 9)
DESCRIPTION:
DTSTAMP:20260421T202908
DTSTART;TZID=America/Argentina/Buenos_Aires;VALUE=DATE:20180410
DTEND;TZID=America/Argentina/Buenos_Aires;VALUE=DATE:20180411
SEQUENCE:0
TRANSP:OPAQUE
END:VEVENT
END:VCALENDAR