BEGIN:VCALENDAR
VERSION:2.0
PRODID:-//jEvents 2.0 for Joomla//EN
CALSCALE:GREGORIAN
METHOD:PUBLISH
BEGIN:VEVENT
UID:CSVConvert2aa85902c9b9800891e543e92e6f308a
CATEGORIES:Vencimientos
CREATED:20230323T174741
SUMMARY:Vencimiento SIFERE - Convenio Multilateral - 11/2018(CUIT 6 A 7)
DESCRIPTION:
DTSTAMP:20260421T210316
DTSTART;TZID=America/Argentina/Buenos_Aires;VALUE=DATE:20181219
DTEND;TZID=America/Argentina/Buenos_Aires;VALUE=DATE:20181220
SEQUENCE:0
TRANSP:OPAQUE
END:VEVENT
END:VCALENDAR