BEGIN:VCALENDAR
VERSION:2.0
PRODID:-//jEvents 2.0 for Joomla//EN
CALSCALE:GREGORIAN
METHOD:PUBLISH
BEGIN:VEVENT
UID:CSVConvert2a213ca48aceca65330c043a4b8f5a0f
CATEGORIES:Vencimientos
CREATED:20230323T174740
SUMMARY:Vencimiento SIRCAR - 1ra Quincena - 08/2019 (CUIT 5 a 9)
DESCRIPTION:
DTSTAMP:20260421T132737
DTSTART;TZID=America/Argentina/Buenos_Aires;VALUE=DATE:20190823
DTEND;TZID=America/Argentina/Buenos_Aires;VALUE=DATE:20190824
SEQUENCE:0
TRANSP:OPAQUE
END:VEVENT
END:VCALENDAR