BEGIN:VCALENDAR
VERSION:2.0
PRODID:-//jEvents 2.0 for Joomla//EN
CALSCALE:GREGORIAN
METHOD:PUBLISH
BEGIN:VEVENT
UID:CSVConvert299398c12d62e220cdf0cb701c598fd0
CATEGORIES:Vencimientos
CREATED:20230323T174740
SUMMARY:Vencimiento SIFERE - Convenio Multilateral - 07/2018(CUIT 0 A 2)
DESCRIPTION:
DTSTAMP:20260421T221629
DTSTART;TZID=America/Argentina/Buenos_Aires;VALUE=DATE:20180815
DTEND;TZID=America/Argentina/Buenos_Aires;VALUE=DATE:20180816
SEQUENCE:0
TRANSP:OPAQUE
END:VEVENT
END:VCALENDAR