BEGIN:VCALENDAR
VERSION:2.0
PRODID:-//jEvents 2.0 for Joomla//EN
CALSCALE:GREGORIAN
METHOD:PUBLISH
BEGIN:VEVENT
UID:CSVConvert297b36dd304e3350b70a943fc20bf58d
CATEGORIES:Vencimientos
CREATED:20230323T174740
SUMMARY:Vencimiento SIRCREB (Presentacion DDJJ -2da. decena Julio)
DESCRIPTION:
DTSTAMP:20260421T202821
DTSTART;TZID=America/Argentina/Buenos_Aires;VALUE=DATE:20180726
DTEND;TZID=America/Argentina/Buenos_Aires;VALUE=DATE:20180727
SEQUENCE:0
TRANSP:OPAQUE
END:VEVENT
END:VCALENDAR