BEGIN:VCALENDAR
VERSION:2.0
PRODID:-//jEvents 2.0 for Joomla//EN
CALSCALE:GREGORIAN
METHOD:PUBLISH
BEGIN:VEVENT
UID:CSVConvert27e17b62b3493e7b1b7c30e8d37f2c11
CATEGORIES:Vencimientos
CREATED:20230323T174740
SUMMARY:Vencimiento SIRCREB (Presentacion DDJJ -2da. decena Abril)
DESCRIPTION:
DTSTAMP:20260421T203108
DTSTART;TZID=America/Argentina/Buenos_Aires;VALUE=DATE:20180426
DTEND;TZID=America/Argentina/Buenos_Aires;VALUE=DATE:20180427
SEQUENCE:0
TRANSP:OPAQUE
END:VEVENT
END:VCALENDAR