BEGIN:VCALENDAR
VERSION:2.0
PRODID:-//jEvents 2.0 for Joomla//EN
CALSCALE:GREGORIAN
METHOD:PUBLISH
BEGIN:VEVENT
UID:CSVConvert27099d6f6e5af9c77c04ef27d7bc818f
CATEGORIES:Vencimientos
CREATED:20230323T174740
SUMMARY:Vencimiento SIRCAR - 1ra Quincena - 12/2018 (CUIT 0 a 4)
DESCRIPTION:
DTSTAMP:20260421T210159
DTSTART;TZID=America/Argentina/Buenos_Aires;VALUE=DATE:20181226
DTEND;TZID=America/Argentina/Buenos_Aires;VALUE=DATE:20181227
SEQUENCE:0
TRANSP:OPAQUE
END:VEVENT
END:VCALENDAR