BEGIN:VCALENDAR
VERSION:2.0
PRODID:-//jEvents 2.0 for Joomla//EN
CALSCALE:GREGORIAN
METHOD:PUBLISH
BEGIN:VEVENT
UID:CSVConvert2684dcf78ee400cd2037f1cc8ed5fb42
CATEGORIES:Vencimientos
CREATED:20230323T174740
SUMMARY:Vencimiento SIRCAR - 1ra Quincena - 01/2019 (CUIT 0 a 4)
DESCRIPTION:
DTSTAMP:20260421T120000
DTSTART;TZID=America/Argentina/Buenos_Aires;VALUE=DATE:20190122
DTEND;TZID=America/Argentina/Buenos_Aires;VALUE=DATE:20190123
SEQUENCE:0
TRANSP:OPAQUE
END:VEVENT
END:VCALENDAR