BEGIN:VCALENDAR
VERSION:2.0
PRODID:-//jEvents 2.0 for Joomla//EN
CALSCALE:GREGORIAN
METHOD:PUBLISH
BEGIN:VEVENT
UID:CSVConvert266b2bc67f9771255b3978ef4b23ff3f
CATEGORIES:Vencimientos
CREATED:20230323T174740
SUMMARY:Vencimiento SIRCAR - 1ra Quincena - 08/2019 (CUIT 0 a 4)
DESCRIPTION:
DTSTAMP:20260421T132844
DTSTART;TZID=America/Argentina/Buenos_Aires;VALUE=DATE:20190822
DTEND;TZID=America/Argentina/Buenos_Aires;VALUE=DATE:20190823
SEQUENCE:0
TRANSP:OPAQUE
END:VEVENT
END:VCALENDAR