BEGIN:VCALENDAR
VERSION:2.0
PRODID:-//jEvents 2.0 for Joomla//EN
CALSCALE:GREGORIAN
METHOD:PUBLISH
BEGIN:VEVENT
UID:CSVConvert26320fe8c1890462e32a0043a1e46a12
CATEGORIES:Vencimientos
CREATED:20230323T174740
SUMMARY:Vencimiento SIRCAR - 1ra Quincena - 09/2019 (CUIT 5 a 9)
DESCRIPTION:
DTSTAMP:20260421T170814
DTSTART;TZID=America/Argentina/Buenos_Aires;VALUE=DATE:20190924
DTEND;TZID=America/Argentina/Buenos_Aires;VALUE=DATE:20190925
SEQUENCE:0
TRANSP:OPAQUE
END:VEVENT
END:VCALENDAR