BEGIN:VCALENDAR
VERSION:2.0
PRODID:-//jEvents 2.0 for Joomla//EN
CALSCALE:GREGORIAN
METHOD:PUBLISH
BEGIN:VEVENT
UID:CSVConvertd93681d4fb68ae9b9ac7efd10809ad45
CATEGORIES:Vencimientos
CREATED:20241230T134459
SUMMARY:SIRTAC - VENCIMIENTO PRESENTACION DDJJ 1ra QUINCENA ABRIL 
DESCRIPTION:
DTSTAMP:20260419T130850
DTSTART;TZID=America/Argentina/Buenos_Aires;VALUE=DATE:20250425
DTEND;TZID=America/Argentina/Buenos_Aires;VALUE=DATE:20250426
SEQUENCE:0
TRANSP:OPAQUE
END:VEVENT
END:VCALENDAR