BEGIN:VCALENDAR
VERSION:2.0
PRODID:-//jEvents 2.0 for Joomla//EN
CALSCALE:GREGORIAN
METHOD:PUBLISH
BEGIN:VEVENT
UID:CSVConvert633c4d17d9e48b10d6506d315f9eb587
CATEGORIES:Vencimientos
CREATED:20241230T134458
SUMMARY:SIRTAC - VENCIMIENTO PRESENTACION DDJJ 2da QUINCENA MAYO 
DESCRIPTION:
DTSTAMP:20260419T130659
DTSTART;TZID=America/Argentina/Buenos_Aires;VALUE=DATE:20250609
DTEND;TZID=America/Argentina/Buenos_Aires;VALUE=DATE:20250610
SEQUENCE:0
TRANSP:OPAQUE
END:VEVENT
END:VCALENDAR