BEGIN:VCALENDAR
VERSION:2.0
PRODID:-//jEvents 2.0 for Joomla//EN
CALSCALE:GREGORIAN
METHOD:PUBLISH
BEGIN:VEVENT
UID:CSVConvert4749593f7a67348058dda5724e4948f5
CATEGORIES:Vencimientos
CREATED:20241230T134458
SUMMARY:SIRTAC - VENCIMIENTO PRESENTACION DDJJ 1ra QUINCENA JUNIO 
DESCRIPTION:
DTSTAMP:20260419T130208
DTSTART;TZID=America/Argentina/Buenos_Aires;VALUE=DATE:20250625
DTEND;TZID=America/Argentina/Buenos_Aires;VALUE=DATE:20250626
SEQUENCE:0
TRANSP:OPAQUE
END:VEVENT
END:VCALENDAR