BEGIN:VCALENDAR
VERSION:2.0
PRODID:-//jEvents 2.0 for Joomla//EN
CALSCALE:GREGORIAN
METHOD:PUBLISH
BEGIN:VEVENT
UID:CSVConvert040c4bece83889f09943678312aa2f24
CATEGORIES:Vencimientos
CREATED:20241230T134458
SUMMARY:SIRTAC - VENCIMIENTO PRESENTACION DDJJ 2da QUINCENA JUNIO 
DESCRIPTION:
DTSTAMP:20260421T121235
DTSTART;TZID=America/Argentina/Buenos_Aires;VALUE=DATE:20250708
DTEND;TZID=America/Argentina/Buenos_Aires;VALUE=DATE:20250709
SEQUENCE:0
TRANSP:OPAQUE
END:VEVENT
END:VCALENDAR