BEGIN:VCALENDAR
VERSION:2.0
PRODID:-//jEvents 2.0 for Joomla//EN
CALSCALE:GREGORIAN
METHOD:PUBLISH
BEGIN:VEVENT
UID:CSVConvertfa89fd9957d46dd44182e76bd88644cd
CATEGORIES:Vencimientos
CREATED:20241230T134458
SUMMARY:SIRCUPA - VENCIMIENTO PRESENTACION DDJJ 3ra DECENA JULIO
DESCRIPTION:
DTSTAMP:20260419T162654
DTSTART;TZID=America/Argentina/Buenos_Aires;VALUE=DATE:20250806
DTEND;TZID=America/Argentina/Buenos_Aires;VALUE=DATE:20250807
SEQUENCE:0
TRANSP:OPAQUE
END:VEVENT
END:VCALENDAR