BEGIN:VCALENDAR
VERSION:2.0
PRODID:-//jEvents 2.0 for Joomla//EN
CALSCALE:GREGORIAN
METHOD:PUBLISH
BEGIN:VEVENT
UID:CSVConverte04ce42d913259cf65adbe311daa7e78
CATEGORIES:Vencimientos
CREATED:20241230T134458
SUMMARY:SIRCUPA - VENCIMIENTO PRESENTACION DDJJ 3ra DECENA MAYO
DESCRIPTION:
DTSTAMP:20260419T130258
DTSTART;TZID=America/Argentina/Buenos_Aires;VALUE=DATE:20250605
DTEND;TZID=America/Argentina/Buenos_Aires;VALUE=DATE:20250606
SEQUENCE:0
TRANSP:OPAQUE
END:VEVENT
END:VCALENDAR