BEGIN:VCALENDAR
VERSION:2.0
PRODID:-//jEvents 2.0 for Joomla//EN
CALSCALE:GREGORIAN
METHOD:PUBLISH
BEGIN:VEVENT
UID:CSVConvertc8b35e741bf3f56fa0621442962bae66
CATEGORIES:Vencimientos
CREATED:20241230T134458
SUMMARY:SIRCUPA - VENCIMIENTO PAGO DDJJ 3ra DECENA MAYO
DESCRIPTION:
DTSTAMP:20260419T130850
DTSTART;TZID=America/Argentina/Buenos_Aires;VALUE=DATE:20250606
DTEND;TZID=America/Argentina/Buenos_Aires;VALUE=DATE:20250607
SEQUENCE:0
TRANSP:OPAQUE
END:VEVENT
END:VCALENDAR