BEGIN:VCALENDAR
VERSION:2.0
PRODID:-//jEvents 2.0 for Joomla//EN
CALSCALE:GREGORIAN
METHOD:PUBLISH
BEGIN:VEVENT
UID:CSVConvertaacaf3d0c60f2691b919f673756e156f
CATEGORIES:Vencimientos
CREATED:20241230T134458
SUMMARY:SIRCUPA - VENCIMIENTO PAGO DDJJ 3ra DECENA JULIO
DESCRIPTION:
DTSTAMP:20260419T162211
DTSTART;TZID=America/Argentina/Buenos_Aires;VALUE=DATE:20250807
DTEND;TZID=America/Argentina/Buenos_Aires;VALUE=DATE:20250808
SEQUENCE:0
TRANSP:OPAQUE
END:VEVENT
END:VCALENDAR